BEGIN:VCALENDAR
VERSION:2.0
PRODID:-//Staro Brdo - ECPv6.2.8//NONSGML v1.0//EN
CALSCALE:GREGORIAN
METHOD:PUBLISH
X-WR-CALNAME:Staro Brdo
X-ORIGINAL-URL:https://starobrdo.com
X-WR-CALDESC:Events for Staro Brdo
REFRESH-INTERVAL;VALUE=DURATION:PT1H
X-Robots-Tag:noindex
X-PUBLISHED-TTL:PT1H
BEGIN:VTIMEZONE
TZID:UTC
BEGIN:STANDARD
TZOFFSETFROM:+0000
TZOFFSETTO:+0000
TZNAME:UTC
DTSTART:20210101T000000
END:STANDARD
END:VTIMEZONE
BEGIN:VEVENT
DTSTART;TZID=UTC:20220828T100000
DTEND;TZID=UTC:20220828T170000
DTSTAMP:20260423T163425
CREATED:20220824T125245Z
LAST-MODIFIED:20220824T125245Z
UID:18274-1661680800-1661706000@starobrdo.com
SUMMARY:Avgustovski Dan otvorenih vrata azila
DESCRIPTION:Avgustovski Dan otvorenih vrata\, 28.8.2022.\, od 10 do 17 časova.  \nNajavljeni su lepi\, sunčani dani\, pa blato i haos koji su nam posle jučerašnje poplave ostali (još uvek nije moguće utvrditi štetu) neće praviti problem u nedelju.  \nUlaz besplatan\, šargarepice i jabuke uvek dobrodošle\, ćebence za piknik možete takođe poneti\, kao i osveženje za uživanje u prirodi\, među spašenim životinjama azila.  \nKasica-prasica uvek prisutna\, za pomoć stanarima azila.  \nVidimo se. 
URL:https://starobrdo.com/event/avgustovski-dan-otvorenih-vrata-azila/
ATTACH;FMTTYPE=image/jpeg:https://starobrdo.com/wp-content/uploads/2022/08/dan-azila.jpg
END:VEVENT
BEGIN:VEVENT
DTSTART;TZID=UTC:20220731T100000
DTEND;TZID=UTC:20220731T170000
DTSTAMP:20260423T163425
CREATED:20220726T120442Z
LAST-MODIFIED:20220726T121519Z
UID:18244-1659261600-1659286800@starobrdo.com
SUMMARY:Julski Dan otvorenih vrata azila
DESCRIPTION:Vidimo se 31.7. od 10 do 17 časova! 🙂 \nŠargarepice i jabuke uvek dobrodošle\, kasica-prasica je tu ukoliko poželite da direktno pomognete rad azila i životinje koje se u njemu nalaze. ? \n  \nPonesite i ćebence i osveženje\, neka izlet u zelenilo bude kompletan. 🙂 \n  \nUlaz besplatan.
URL:https://starobrdo.com/event/julski-dan-otvorenih-vrata-azila/
ATTACH;FMTTYPE=image/jpeg:https://starobrdo.com/wp-content/uploads/2022/07/Screenshot_3.jpg
END:VEVENT
BEGIN:VEVENT
DTSTART;TZID=UTC:20220723T083000
DTEND;TZID=UTC:20220723T130000
DTSTAMP:20260423T163425
CREATED:20220715T083806Z
LAST-MODIFIED:20220715T084758Z
UID:18232-1658565000-1658581200@starobrdo.com
SUMMARY:Prvi Tragački seminar!
DESCRIPTION:Obaveštavamo sve zainteresovane da će se ??.??.????. ? ??????\, na lokaciji Centar za povratak Prirodi “ReWild” u organizaciji Tragačke stanice “Staro brdo”\, sa početkom u 08:30\, održati prvi ??????̌?? ???????!\n\n\n\nTematika seminara je ???????????\, praćenje ljudskih tragova.\n\n\n\nUčesnici će proći uvodnu obuku i biti trajno inicijalno osposobljeni za praćenje tragova nestalih\, izgubljenih ili odbeglih lica.\n\n\nDemonstriraćemo praćenje svežeg\, hladnog i krvnog traga. Situacija na terenu će biti simulacijska i kontrolisana\, gde ćemo simulirati pustinju\, kamenjar\, prašumu\, priobalja i polja i ubrzano starenje i podmlađivanje tragova.\n\n\n\nSeminar je namenjen svim licima koja imaju ambicije da se bave ovim aktivnostima\, pogotovo pripadnicima organizacija čije su aktivnosti usko vezane za praćenje i pronalaženje ljudi na terenu.\n\n\n\nUčešće je besplatno\, ručak za učesnike obezbeđen.\n\n\n\nPredavač je Željko Iličić\, specijalista lovstva\, tragač sa višedecenijskim stažom.\n\n\n\n??????? ??????? ?? ???? tragacka.stanica@?????????.??? ?? ??.??.\n\n\n\nS obzirom da je ukupan ???? ?č?????? ????????? ?? ??\, organizator zadržava pravo da neke od prijava ne ulista za ovaj već prebaci za sledeći seminar\, i da sve prijavljene informiše o statusu njihove prijave.\n\n\n\nReč autora: ?????? ?? ??đ? ?????????? ???????? ?????? ? ????? š?? ?? ??č? ?????č??? ?????????? ???? ????\, ??? ?????? š?? ??? ????? ????????? ???????? ?? ?????????. ???????ž???? ????????\, ??????????? ??? ???????? ???? ?? ???? ????? ????? ??? ?? ? ?????? ??????????? ????? ????? ????? ? ????? ???č??? ????????? ??ž? ?? ?? ?????????? ??ć? ???????? ?? ??????? ?????č????.\n\n\n\n***\n\n\n\n??? ????? ??????????? ??????? ???? ?? ???? ?? ???? ???? ????. ?? ??????\, ?? ??? ?????? ?????? ??? ???????????? ???? ??????\, ????????? ?? ??????̌?? ??????? “????? ????”!\n\n\n\nThis is the first course with this topic\, focused on fundamentals of man tracking\, and it is for now limited for 10 people only\, but the plan is to train as much interested individuals and organizations as possible\, because of importance of fast and adequate response in urgent situations where every minute can be difference between life and death.\n\n\nOne trained person can do more than one hundred untrained.\n\n\n\nThe seminar is intended for all who have ambitions to engage in these activities\, especially members of organizations whose activities are closely related to tracking and finding people in the field.\n\n\n\nInstructor is Željko Iličić\, wildlife conservation specialist\, tracker with decades of experience.\n\n\n\nThis course is open for applications until July 18th and it is free of charge.
URL:https://starobrdo.com/event/%f0%9d%90%8f%f0%9d%90%ab%f0%9d%90%af%f0%9d%90%a2-%f0%9d%90%93%f0%9d%90%ab%f0%9d%90%9a%f0%9d%90%a0%f0%9d%90%9ac%f0%9d%90%a4%f0%9d%90%a2-%f0%9d%90%ac%f0%9d%90%9e%f0%9d%90%a6%f0%9d%90%a2%f0%9d%90%a7/
CATEGORIES:seminari
ATTACH;FMTTYPE=image/jpeg:https://starobrdo.com/wp-content/uploads/2022/07/mantracking.jpg
END:VEVENT
BEGIN:VEVENT
DTSTART;TZID=UTC:20220514T090000
DTEND;TZID=UTC:20220514T150000
DTSTAMP:20260423T163425
CREATED:20220504T160450Z
LAST-MODIFIED:20220504T161150Z
UID:18211-1652518800-1652540400@starobrdo.com
SUMMARY:Otvorite sezonu ReWild Centra za povratak Prirodi
DESCRIPTION:ReWild ponovo radi!!! ? \n\nPosle duže pauze nastavljamo sa još boljom i zanimljivijom ponudom: vodimo vas na nesvakidašnje putovanje u Zeleno\, otkrivamo vam tajne koje Priroda čuva samo za one odabrane i male trikove koji će vaš boravak u prirodi učiniti nezaboravnim i udobnim! \n\n\n \n\n\nHoće li vas list neke biljke izlečiti ako ste ranjeni\, neki tajni koren nahraniti i da li vam divlje životinje mogu pokazati put? \n\n\nSaznajte sa nama u novoj sezoni ReWild-a! \n\n\n \n\n\nČekamo vas u Lapovu svakog vikenda (po potrebi i preko nedelje)\, a za najbržih 12 smo tu već 14.5. ?\n\n\n\nUkoliko želite da budete prvi gosti u novoj sezoni Povratka Prirodi\, požurite i popunite prijavu ovde: https://forms.gle/fv8pv32e6sTDxBiF8\n\n\n  \n\nKompletnu ponudu radionica ReWild Centra možete videti ovde: https://starobrdo.com/ponuda/
URL:https://starobrdo.com/event/otvorite-sezonu-rewild-centra-za-povratak-prirodi/
ATTACH;FMTTYPE=image/jpeg:https://starobrdo.com/wp-content/uploads/2021/06/Ljudi-proslava.jpg
END:VEVENT
BEGIN:VEVENT
DTSTART;TZID=UTC:20210725T100000
DTEND;TZID=UTC:20210725T170000
DTSTAMP:20260423T163425
CREATED:20210708T125116Z
LAST-MODIFIED:20210708T150919Z
UID:17551-1627207200-1627232400@starobrdo.com
SUMMARY:Treći Dan otvorenih vrata azila Staro brdo u 2021.
DESCRIPTION:Dođite da upoznate stanare azila za konje “Staro brdo” i provedete neko vreme okruženi zelenilom i divnim\, terapeutskim\, životinjama. \n  \nDani otvorenih vrata azila održavaju se svake poslednje nedelje u mesecu\, od maja do oktobra\, od 10 do 17 časova. \n  \nŠargarepe i jabuke su uvek dobrodošla poslastica\, a ako poželite i da pomognete rad azila\, videćete našu kasicu-prasicu i hvala vam unapred na svakoj pomoći. \n  \nLokacija azila: https://goo.gl/maps/R8u7Rt6FPJJB38nN8
URL:https://starobrdo.com/event/treci-dan-otvorenih-vrata-azila-staro-brdo-u-2021/
LOCATION:Azil za konje Staro brdo
ATTACH;FMTTYPE=image/jpeg:https://starobrdo.com/wp-content/uploads/2021/07/IMG_8185.jpg
END:VEVENT
BEGIN:VEVENT
DTSTART;TZID=UTC:20210627T100000
DTEND;TZID=UTC:20210627T170000
DTSTAMP:20260423T163425
CREATED:20210611T182011Z
LAST-MODIFIED:20210611T182011Z
UID:17450-1624788000-1624813200@starobrdo.com
SUMMARY:Dan otvorenih vrata azila za konje Staro brdo
DESCRIPTION:Dođite da upoznate stanare azila za konje “Staro brdo” i provedete neko vreme okruženi zelenilom i divnim\, terapeutskim\, životinjama.  \n  \nDani otvorenih vrata azila održavaju se svake poslednje nedelje u mesecu\, od maja do oktobra\, od 10 do 17 časova. \n  \nŠargarepe i jabuke su uvek dobrodošla poslastica\, a ako poželite i da pomognete rad azila\, videćete našu kasicu-prasicu i hvala vam unapred na svakoj pomoći. ?
URL:https://starobrdo.com/event/dan-otvorenih-vrata-azila-za-konje-staro-brdo/
LOCATION:Azil za konje Staro brdo
ATTACH;FMTTYPE=image/jpeg:https://starobrdo.com/wp-content/uploads/2021/06/m7.jpg
END:VEVENT
END:VCALENDAR